BEGIN:VCALENDAR
VERSION:2.0
PRODID:-//SettlementRadar//Settlement Deadlines//EN
CALSCALE:GREGORIAN
METHOD:PUBLISH
X-WR-CALNAME:SettlementRadar Deadlines
BEGIN:VEVENT
UID:kroll-if-your-private-information-may-have-been-accessed-or-involved-in-the-chattanoog-deadline@settlementradar.com
DTSTAMP:20260422T080634Z
DTSTART;VALUE=DATE:20260612
DTEND;VALUE=DATE:20260613
SUMMARY:If your Private Information Settlement Deadline
DESCRIPTION:Last day to file your claim for the If your Private Information may have been accessed or involved in The Chattanooga Heart Institute Data Incident\, a proposed class action settlement may affect your rights. File at: https://www.settlementradar.com/settlements/kroll-if-your-private-information-may-have-been-accessed-or-involved-in-the-chattanoog
URL:https://www.settlementradar.com/settlements/kroll-if-your-private-information-may-have-been-accessed-or-involved-in-the-chattanoog
BEGIN:VALARM
ACTION:DISPLAY
TRIGGER:-P7D
DESCRIPTION:Reminder: If your Private Information Settlement Deadline is in 7 days
END:VALARM
BEGIN:VALARM
ACTION:DISPLAY
TRIGGER:-P1D
DESCRIPTION:Reminder: If your Private Information Settlement Deadline is TOMORROW - last chance to file!
END:VALARM
END:VEVENT
END:VCALENDAR