BEGIN:VCALENDAR
VERSION:2.0
PRODID:-//SettlementRadar//Settlement Deadlines//EN
CALSCALE:GREGORIAN
METHOD:PUBLISH
X-WR-CALNAME:SettlementRadar Deadlines
BEGIN:VEVENT
UID:cdp-settlements-winston-weaver-class-action-3b9a6-deadline@settlementradar.com
DTSTAMP:20260422T051956Z
DTSTART;VALUE=DATE:20260715
DTEND;VALUE=DATE:20260716
SUMMARY:Winston Weaver $4.5M Business Settlement Deadline
DESCRIPTION:Last day to file your claim for the Winston Weaver $4.5M Business Evacuation Settlement. File at: https://www.settlementradar.com/settlements/cdp-settlements-winston-weaver-class-action-3b9a6
URL:https://www.settlementradar.com/settlements/cdp-settlements-winston-weaver-class-action-3b9a6
BEGIN:VALARM
ACTION:DISPLAY
TRIGGER:-P7D
DESCRIPTION:Reminder: Winston Weaver $4.5M Business Settlement Deadline is in 7 days
END:VALARM
BEGIN:VALARM
ACTION:DISPLAY
TRIGGER:-P1D
DESCRIPTION:Reminder: Winston Weaver $4.5M Business Settlement Deadline is TOMORROW - last chance to file!
END:VALARM
END:VEVENT
END:VCALENDAR