BEGIN:VCALENDAR
VERSION:2.0
PRODID:-//SettlementRadar//Settlement Deadlines//EN
CALSCALE:GREGORIAN
METHOD:PUBLISH
X-WR-CALNAME:SettlementRadar Deadlines
BEGIN:VEVENT
UID:cdp-settlements-visa-mastercard-discover-17m-deadline@settlementradar.com
DTSTAMP:20260419T153338Z
DTSTART;VALUE=DATE:20260519
DTEND;VALUE=DATE:20260520
SUMMARY:Visa, Mastercard & Discover Settlement Deadline
DESCRIPTION:Last day to file your claim for the Visa\, Mastercard & Discover $17.5M Class Action Settlement. File at: https://www.settlementradar.com/settlements/cdp-settlements-visa-mastercard-discover-17m
URL:https://www.settlementradar.com/settlements/cdp-settlements-visa-mastercard-discover-17m
BEGIN:VALARM
ACTION:DISPLAY
TRIGGER:-P7D
DESCRIPTION:Reminder: Visa, Mastercard & Discover Settlement Deadline is in 7 days
END:VALARM
BEGIN:VALARM
ACTION:DISPLAY
TRIGGER:-P1D
DESCRIPTION:Reminder: Visa, Mastercard & Discover Settlement Deadline is TOMORROW - last chance to file!
END:VALARM
END:VEVENT
END:VCALENDAR