BEGIN:VCALENDAR
VERSION:2.0
PRODID:-//SettlementRadar//Settlement Deadlines//EN
CALSCALE:GREGORIAN
METHOD:PUBLISH
X-WR-CALNAME:SettlementRadar Deadlines
BEGIN:VEVENT
UID:cdp-settlements-oklahoma-earthquakes-lawsuits-2024-2-deadline@settlementradar.com
DTSTAMP:20260423T055731Z
DTSTART;VALUE=DATE:20260728
DTEND;VALUE=DATE:20260729
SUMMARY:Oil and Gas Companies Settlement Deadline
DESCRIPTION:Last day to file your claim for the Oil and Gas Companies $2.6M Oklahoma Earthquake Settlement. File at: https://www.settlementradar.com/settlements/cdp-settlements-oklahoma-earthquakes-lawsuits-2024-2
URL:https://www.settlementradar.com/settlements/cdp-settlements-oklahoma-earthquakes-lawsuits-2024-2
BEGIN:VALARM
ACTION:DISPLAY
TRIGGER:-P7D
DESCRIPTION:Reminder: Oil and Gas Companies Settlement Deadline is in 7 days
END:VALARM
BEGIN:VALARM
ACTION:DISPLAY
TRIGGER:-P1D
DESCRIPTION:Reminder: Oil and Gas Companies Settlement Deadline is TOMORROW - last chance to file!
END:VALARM
END:VEVENT
END:VCALENDAR