BEGIN:VCALENDAR
VERSION:2.0
PRODID:-//SettlementRadar//Settlement Deadlines//EN
CALSCALE:GREGORIAN
METHOD:PUBLISH
X-WR-CALNAME:SettlementRadar Deadlines
BEGIN:VEVENT
UID:cdp-settlements-aent-data-settlement-deadline@settlementradar.com
DTSTAMP:20260423T054420Z
DTSTART;VALUE=DATE:20260623
DTEND;VALUE=DATE:20260624
SUMMARY:Alpine Ear, Nose & Throat Settlement Deadline
DESCRIPTION:Last day to file your claim for the Alpine Ear\, Nose & Throat Data Breach Settlement. File at: https://www.settlementradar.com/settlements/cdp-settlements-aent-data-settlement
URL:https://www.settlementradar.com/settlements/cdp-settlements-aent-data-settlement
BEGIN:VALARM
ACTION:DISPLAY
TRIGGER:-P7D
DESCRIPTION:Reminder: Alpine Ear, Nose & Throat Settlement Deadline is in 7 days
END:VALARM
BEGIN:VALARM
ACTION:DISPLAY
TRIGGER:-P1D
DESCRIPTION:Reminder: Alpine Ear, Nose & Throat Settlement Deadline is TOMORROW - last chance to file!
END:VALARM
END:VEVENT
END:VCALENDAR