BEGIN:VCALENDAR
VERSION:2.0
PRODID:-//SettlementRadar//Settlement Deadlines//EN
CALSCALE:GREGORIAN
METHOD:PUBLISH
X-WR-CALNAME:SettlementRadar Deadlines
BEGIN:VEVENT
UID:ca-widener-university-covid-tuition-deadline@settlementradar.com
DTSTAMP:20260422T051814Z
DTSTART;VALUE=DATE:20260526
DTEND;VALUE=DATE:20260527
SUMMARY:Widener University - COVID Settlement Deadline
DESCRIPTION:Last day to file your claim for the Widener University - COVID Tuition. File at: https://www.settlementradar.com/settlements/ca-widener-university-covid-tuition
URL:https://www.settlementradar.com/settlements/ca-widener-university-covid-tuition
BEGIN:VALARM
ACTION:DISPLAY
TRIGGER:-P7D
DESCRIPTION:Reminder: Widener University - COVID Settlement Deadline is in 7 days
END:VALARM
BEGIN:VALARM
ACTION:DISPLAY
TRIGGER:-P1D
DESCRIPTION:Reminder: Widener University - COVID Settlement Deadline is TOMORROW - last chance to file!
END:VALARM
END:VEVENT
END:VCALENDAR