BEGIN:VCALENDAR
VERSION:2.0
PRODID:-//SettlementRadar//Settlement Deadlines//EN
CALSCALE:GREGORIAN
METHOD:PUBLISH
X-WR-CALNAME:SettlementRadar Deadlines
BEGIN:VEVENT
UID:ca-transamerica-life-insurance-price-increases-deadline@settlementradar.com
DTSTAMP:20260422T052116Z
DTSTART;VALUE=DATE:20260601
DTEND;VALUE=DATE:20260602
SUMMARY:Transamerica Life Insurance Settlement Deadline
DESCRIPTION:Last day to file your claim for the Transamerica Life Insurance - Price Increases. File at: https://www.settlementradar.com/settlements/ca-transamerica-life-insurance-price-increases
URL:https://www.settlementradar.com/settlements/ca-transamerica-life-insurance-price-increases
BEGIN:VALARM
ACTION:DISPLAY
TRIGGER:-P7D
DESCRIPTION:Reminder: Transamerica Life Insurance Settlement Deadline is in 7 days
END:VALARM
BEGIN:VALARM
ACTION:DISPLAY
TRIGGER:-P1D
DESCRIPTION:Reminder: Transamerica Life Insurance Settlement Deadline is TOMORROW - last chance to file!
END:VALARM
END:VEVENT
END:VCALENDAR