BEGIN:VCALENDAR
VERSION:2.0
PRODID:-//SettlementRadar//Settlement Deadlines//EN
CALSCALE:GREGORIAN
METHOD:PUBLISH
X-WR-CALNAME:SettlementRadar Deadlines
BEGIN:VEVENT
UID:ca-the-chattanooga-heart-institute-data-breach-deadline@settlementradar.com
DTSTAMP:20260422T052111Z
DTSTART;VALUE=DATE:20260713
DTEND;VALUE=DATE:20260714
SUMMARY:The Chattanooga Heart Institute Settlement Deadline
DESCRIPTION:Last day to file your claim for the The Chattanooga Heart Institute - Data Breach. File at: https://www.settlementradar.com/settlements/ca-the-chattanooga-heart-institute-data-breach
URL:https://www.settlementradar.com/settlements/ca-the-chattanooga-heart-institute-data-breach
BEGIN:VALARM
ACTION:DISPLAY
TRIGGER:-P7D
DESCRIPTION:Reminder: The Chattanooga Heart Institute Settlement Deadline is in 7 days
END:VALARM
BEGIN:VALARM
ACTION:DISPLAY
TRIGGER:-P1D
DESCRIPTION:Reminder: The Chattanooga Heart Institute Settlement Deadline is TOMORROW - last chance to file!
END:VALARM
END:VEVENT
END:VCALENDAR