BEGIN:VCALENDAR
VERSION:2.0
PRODID:-//SettlementRadar//Settlement Deadlines//EN
CALSCALE:GREGORIAN
METHOD:PUBLISH
X-WR-CALNAME:SettlementRadar Deadlines
BEGIN:VEVENT
UID:ca-state-farm-underinsured-motorist-coverage-new-mexico-deadline@settlementradar.com
DTSTAMP:20260422T051957Z
DTSTART;VALUE=DATE:20260702
DTEND;VALUE=DATE:20260703
SUMMARY:State Farm - Underinsured Settlement Deadline
DESCRIPTION:Last day to file your claim for the State Farm - Underinsured Motorist Coverage (New Mexico). File at: https://www.settlementradar.com/settlements/ca-state-farm-underinsured-motorist-coverage-new-mexico
URL:https://www.settlementradar.com/settlements/ca-state-farm-underinsured-motorist-coverage-new-mexico
BEGIN:VALARM
ACTION:DISPLAY
TRIGGER:-P7D
DESCRIPTION:Reminder: State Farm - Underinsured Settlement Deadline is in 7 days
END:VALARM
BEGIN:VALARM
ACTION:DISPLAY
TRIGGER:-P1D
DESCRIPTION:Reminder: State Farm - Underinsured Settlement Deadline is TOMORROW - last chance to file!
END:VALARM
END:VEVENT
END:VCALENDAR