BEGIN:VCALENDAR
VERSION:2.0
PRODID:-//SettlementRadar//Settlement Deadlines//EN
CALSCALE:GREGORIAN
METHOD:PUBLISH
X-WR-CALNAME:SettlementRadar Deadlines
BEGIN:VEVENT
UID:ca-splish-splash-ticket-fees-deadline@settlementradar.com
DTSTAMP:20260422T051807Z
DTSTART;VALUE=DATE:20260810
DTEND;VALUE=DATE:20260811
SUMMARY:Splish Splash - Ticket Settlement Deadline
DESCRIPTION:Last day to file your claim for the Splish Splash - Ticket Fees. File at: https://www.settlementradar.com/settlements/ca-splish-splash-ticket-fees
URL:https://www.settlementradar.com/settlements/ca-splish-splash-ticket-fees
BEGIN:VALARM
ACTION:DISPLAY
TRIGGER:-P7D
DESCRIPTION:Reminder: Splish Splash - Ticket Settlement Deadline is in 7 days
END:VALARM
BEGIN:VALARM
ACTION:DISPLAY
TRIGGER:-P1D
DESCRIPTION:Reminder: Splish Splash - Ticket Settlement Deadline is TOMORROW - last chance to file!
END:VALARM
END:VEVENT
END:VCALENDAR