BEGIN:VCALENDAR
VERSION:2.0
PRODID:-//SettlementRadar//Settlement Deadlines//EN
CALSCALE:GREGORIAN
METHOD:PUBLISH
X-WR-CALNAME:SettlementRadar Deadlines
BEGIN:VEVENT
UID:ca-posh-group-ticket-fees-california-deadline@settlementradar.com
DTSTAMP:20260422T051951Z
DTSTART;VALUE=DATE:20260707
DTEND;VALUE=DATE:20260708
SUMMARY:Posh Group - Ticket Settlement Deadline
DESCRIPTION:Last day to file your claim for the Posh Group - Ticket Fees (California). File at: https://www.settlementradar.com/settlements/ca-posh-group-ticket-fees-california
URL:https://www.settlementradar.com/settlements/ca-posh-group-ticket-fees-california
BEGIN:VALARM
ACTION:DISPLAY
TRIGGER:-P7D
DESCRIPTION:Reminder: Posh Group - Ticket Settlement Deadline is in 7 days
END:VALARM
BEGIN:VALARM
ACTION:DISPLAY
TRIGGER:-P1D
DESCRIPTION:Reminder: Posh Group - Ticket Settlement Deadline is TOMORROW - last chance to file!
END:VALARM
END:VEVENT
END:VCALENDAR