BEGIN:VCALENDAR
VERSION:2.0
PRODID:-//SettlementRadar//Settlement Deadlines//EN
CALSCALE:GREGORIAN
METHOD:PUBLISH
X-WR-CALNAME:SettlementRadar Deadlines
BEGIN:VEVENT
UID:ca-national-association-of-realtors-deadline@settlementradar.com
DTSTAMP:20260422T052116Z
DTSTART;VALUE=DATE:20260825
DTEND;VALUE=DATE:20260826
SUMMARY:National Association of Realtors Settlement Deadline
DESCRIPTION:Last day to file your claim for the National Association of Realtors. File at: https://www.settlementradar.com/settlements/ca-national-association-of-realtors
URL:https://www.settlementradar.com/settlements/ca-national-association-of-realtors
BEGIN:VALARM
ACTION:DISPLAY
TRIGGER:-P7D
DESCRIPTION:Reminder: National Association of Realtors Settlement Deadline is in 7 days
END:VALARM
BEGIN:VALARM
ACTION:DISPLAY
TRIGGER:-P1D
DESCRIPTION:Reminder: National Association of Realtors Settlement Deadline is TOMORROW - last chance to file!
END:VALARM
END:VEVENT
END:VCALENDAR