BEGIN:VCALENDAR
VERSION:2.0
PRODID:-//SettlementRadar//Settlement Deadlines//EN
CALSCALE:GREGORIAN
METHOD:PUBLISH
X-WR-CALNAME:SettlementRadar Deadlines
BEGIN:VEVENT
UID:ca-management-and-training-corporation-employee-wages-deadline@settlementradar.com
DTSTAMP:20260422T052222Z
DTSTART;VALUE=DATE:20260511
DTEND;VALUE=DATE:20260512
SUMMARY:Management & Training Corporation Settlement Deadline
DESCRIPTION:Last day to file your claim for the Management & Training Corporation - Employee Wages. File at: https://www.settlementradar.com/settlements/ca-management-and-training-corporation-employee-wages
URL:https://www.settlementradar.com/settlements/ca-management-and-training-corporation-employee-wages
BEGIN:VALARM
ACTION:DISPLAY
TRIGGER:-P7D
DESCRIPTION:Reminder: Management & Training Corporation Settlement Deadline is in 7 days
END:VALARM
BEGIN:VALARM
ACTION:DISPLAY
TRIGGER:-P1D
DESCRIPTION:Reminder: Management & Training Corporation Settlement Deadline is TOMORROW - last chance to file!
END:VALARM
END:VEVENT
END:VCALENDAR