BEGIN:VCALENDAR
VERSION:2.0
PRODID:-//SettlementRadar//Settlement Deadlines//EN
CALSCALE:GREGORIAN
METHOD:PUBLISH
X-WR-CALNAME:SettlementRadar Deadlines
BEGIN:VEVENT
UID:ca-ems-linq-data-breach-deadline@settlementradar.com
DTSTAMP:20260422T051713Z
DTSTART;VALUE=DATE:20260629
DTEND;VALUE=DATE:20260630
SUMMARY:EMS LINQ Settlement Deadline
DESCRIPTION:Last day to file your claim for the EMS LINQ - Data Breach. File at: https://www.settlementradar.com/settlements/ca-ems-linq-data-breach
URL:https://www.settlementradar.com/settlements/ca-ems-linq-data-breach
BEGIN:VALARM
ACTION:DISPLAY
TRIGGER:-P7D
DESCRIPTION:Reminder: EMS LINQ Settlement Deadline is in 7 days
END:VALARM
BEGIN:VALARM
ACTION:DISPLAY
TRIGGER:-P1D
DESCRIPTION:Reminder: EMS LINQ Settlement Deadline is TOMORROW - last chance to file!
END:VALARM
END:VEVENT
END:VCALENDAR