BEGIN:VCALENDAR
VERSION:2.0
PRODID:-//SettlementRadar//Settlement Deadlines//EN
CALSCALE:GREGORIAN
METHOD:PUBLISH
X-WR-CALNAME:SettlementRadar Deadlines
BEGIN:VEVENT
UID:ca-dove-healthcare-management-services-data-breach-deadline@settlementradar.com
DTSTAMP:20260422T052156Z
DTSTART;VALUE=DATE:20260706
DTEND;VALUE=DATE:20260707
SUMMARY:Dove Healthcare Management Services Settlement Deadline
DESCRIPTION:Last day to file your claim for the Dove Healthcare Management Services - Data Breach. File at: https://www.settlementradar.com/settlements/ca-dove-healthcare-management-services-data-breach
URL:https://www.settlementradar.com/settlements/ca-dove-healthcare-management-services-data-breach
BEGIN:VALARM
ACTION:DISPLAY
TRIGGER:-P7D
DESCRIPTION:Reminder: Dove Healthcare Management Services Settlement Deadline is in 7 days
END:VALARM
BEGIN:VALARM
ACTION:DISPLAY
TRIGGER:-P1D
DESCRIPTION:Reminder: Dove Healthcare Management Services Settlement Deadline is TOMORROW - last chance to file!
END:VALARM
END:VEVENT
END:VCALENDAR