BEGIN:VCALENDAR
VERSION:2.0
PRODID:-//SettlementRadar//Settlement Deadlines//EN
CALSCALE:GREGORIAN
METHOD:PUBLISH
X-WR-CALNAME:SettlementRadar Deadlines
BEGIN:VEVENT
UID:ca-capital-one-financial-corporation-associate-savings-plan-deadline@settlementradar.com
DTSTAMP:20260419T191708Z
DTSTART;VALUE=DATE:20260526
DTEND;VALUE=DATE:20260527
SUMMARY:Capital One Financial Corporation Settlement Deadline
DESCRIPTION:Last day to file your claim for the Capital One Financial Corporation Associate Savings Plan. File at: https://www.settlementradar.com/settlements/ca-capital-one-financial-corporation-associate-savings-plan
URL:https://www.settlementradar.com/settlements/ca-capital-one-financial-corporation-associate-savings-plan
BEGIN:VALARM
ACTION:DISPLAY
TRIGGER:-P7D
DESCRIPTION:Reminder: Capital One Financial Corporation Settlement Deadline is in 7 days
END:VALARM
BEGIN:VALARM
ACTION:DISPLAY
TRIGGER:-P1D
DESCRIPTION:Reminder: Capital One Financial Corporation Settlement Deadline is TOMORROW - last chance to file!
END:VALARM
END:VEVENT
END:VCALENDAR