BEGIN:VCALENDAR
VERSION:2.0
PRODID:-//SettlementRadar//Settlement Deadlines//EN
CALSCALE:GREGORIAN
METHOD:PUBLISH
X-WR-CALNAME:SettlementRadar Deadlines
BEGIN:VEVENT
UID:20-93m-state-farm-new-mexico-u-coverage-class-action-settlement-deadline@settlementradar.com
DTSTAMP:20260422T052157Z
DTSTART;VALUE=DATE:20260702
DTEND;VALUE=DATE:20260703
SUMMARY:State Farm New Mexico U Coverage Settlement Deadline
DESCRIPTION:Last day to file your claim for the $20.93M State Farm New Mexico U Coverage class action settlement. File at: https://www.settlementradar.com/settlements/20-93m-state-farm-new-mexico-u-coverage-class-action-settlement
URL:https://www.settlementradar.com/settlements/20-93m-state-farm-new-mexico-u-coverage-class-action-settlement
BEGIN:VALARM
ACTION:DISPLAY
TRIGGER:-P7D
DESCRIPTION:Reminder: State Farm New Mexico U Coverage Settlement Deadline is in 7 days
END:VALARM
BEGIN:VALARM
ACTION:DISPLAY
TRIGGER:-P1D
DESCRIPTION:Reminder: State Farm New Mexico U Coverage Settlement Deadline is TOMORROW - last chance to file!
END:VALARM
END:VEVENT
END:VCALENDAR