BEGIN:VCALENDAR
VERSION:2.0
PRODID:-//SettlementRadar//Settlement Deadlines//EN
CALSCALE:GREGORIAN
METHOD:PUBLISH
X-WR-CALNAME:SettlementRadar Deadlines
BEGIN:VEVENT
UID:2-4m-anne-arundel-dermatology-data-breach-class-action-settlement-deadline@settlementradar.com
DTSTAMP:20260424T054927Z
DTSTART;VALUE=DATE:20260708
DTEND;VALUE=DATE:20260709
SUMMARY:Anne Arundel Dermatology Settlement Deadline
DESCRIPTION:Last day to file your claim for the $2.4M Anne Arundel Dermatology data breach class action settlement. File at: https://www.settlementradar.com/settlements/2-4m-anne-arundel-dermatology-data-breach-class-action-settlement
URL:https://www.settlementradar.com/settlements/2-4m-anne-arundel-dermatology-data-breach-class-action-settlement
BEGIN:VALARM
ACTION:DISPLAY
TRIGGER:-P7D
DESCRIPTION:Reminder: Anne Arundel Dermatology Settlement Deadline is in 7 days
END:VALARM
BEGIN:VALARM
ACTION:DISPLAY
TRIGGER:-P1D
DESCRIPTION:Reminder: Anne Arundel Dermatology Settlement Deadline is TOMORROW - last chance to file!
END:VALARM
END:VEVENT
END:VCALENDAR