BEGIN:VCALENDAR
VERSION:2.0
PRODID:-//SettlementRadar//Settlement Deadlines//EN
CALSCALE:GREGORIAN
METHOD:PUBLISH
X-WR-CALNAME:SettlementRadar Deadlines
BEGIN:VEVENT
UID:1-2m-farmers-new-mexico-underinsured-motorist-coverage-class-action-settlement-deadline@settlementradar.com
DTSTAMP:20260421T060814Z
DTSTART;VALUE=DATE:20260526
DTEND;VALUE=DATE:20260527
SUMMARY:Farmers New Mexico underinsured motorist coverage Settlement Deadline
DESCRIPTION:Last day to file your claim for the $1.2M Farmers New Mexico underinsured motorist coverage class action settlement. File at: https://www.settlementradar.com/settlements/1-2m-farmers-new-mexico-underinsured-motorist-coverage-class-action-settlement
URL:https://www.settlementradar.com/settlements/1-2m-farmers-new-mexico-underinsured-motorist-coverage-class-action-settlement
BEGIN:VALARM
ACTION:DISPLAY
TRIGGER:-P7D
DESCRIPTION:Reminder: Farmers New Mexico underinsured motorist coverage Settlement Deadline is in 7 days
END:VALARM
BEGIN:VALARM
ACTION:DISPLAY
TRIGGER:-P1D
DESCRIPTION:Reminder: Farmers New Mexico underinsured motorist coverage Settlement Deadline is TOMORROW - last chance to file!
END:VALARM
END:VEVENT
END:VCALENDAR